BEGIN:VCALENDAR
VERSION:2.0
PRODID:-//rooster/egg//NONSGML v1.0//EN
BEGIN:VTIMEZONE
TZID:Pacific/Auckland
TZURL:http://tzurl.org/zoneinfo-outlook/Pacific/Auckland
X-LIC-LOCATION:Pacific/Auckland
BEGIN:DAYLIGHT
TZOFFSETFROM:+1200
TZOFFSETTO:+1300
TZNAME:NZDT
DTSTART:19700927T020000
RRULE:FREQ=YEARLY;BYMONTH=9;BYDAY=-1SU
END:DAYLIGHT
BEGIN:STANDARD
TZOFFSETFROM:+1300
TZOFFSETTO:+1200
TZNAME:NZST
DTSTART:19700405T030000
RRULE:FREQ=YEARLY;BYMONTH=4;BYDAY=1SU
END:STANDARD
END:VTIMEZONE
BEGIN:VEVENT
ORGANIZER:Emma:mailto:hello.rallydrivenz@gmail.com
DTSTART:20241215T090000
DTEND:20241215T130000
LOCATION:Rally Drive NZ, Okaeria Road, Maramarua Forest
SEQUENCE:0
UID:8da6815fca1281d66410129c73842a4feventspronto.co.nz
DTSTAMP:20260419T131145Z
DESCRIPTION:_RALLY DRIVER EXPERIENCE_\n\n \n\nEnjoy the thrill of rally driving in this action packed rally driving\nexperience.  You'll be prepared with a brief on rallying and on the\ndriving techniques you'll need for your drive.\n\n \n\nThen take the wheel for 3 adrenelin filled laps with an experienced\nrally tutor beside you.  Have the drive of your life on the 5km\ngravel stage in Maramarua forest. \n\n \n\nFinish the day in the passenger seat while your instructor takes you\nfor a run around the circuit at full rally pace.  Suitable for\ndrivers aged 15 years and over - those under 18 need written parental\npermission.\n\n⚠️ DISCLAIMER ⚠️ THIS ADVENTURE ACTIVITY INVOLVES MOTORSPORT\nWHICH IS DANGEROUS AND CAN RESULT IN INJURY OR DEATH, ALTHOUGH WE DO\nEVERYTHING IN OUR POWER TO MITIGATE THESE RISKS YOU MUST BE AWARE OF\nTHESE AND BE WILLING TO PARTICIPATE. FOR MORE INFO PLEASE SEE OUR FAQS\nPAGE. [https://www.rallydrivenz.co.nz/faq]\n\n \n\n_GOT A GIFT VOUCHER?_\n\nYou can use your pre-purchased voucher to book any event, just enter\nthe code when you book online.  Enter the voucher code, starting\nwith the letters TCK when you book.\n\n \n\n_If you have questions, need to book with a Red Balloon gift voucher\nor prefer to book by telephone please call 021 1168860 or email us\n_hello.rallydrivenz@gmail.com\n[http://mailto:hello.rallydrivenz@gmail.com]\n - hello.rallydrivenz@gmail.com - https://www.eventspronto.co.nz/event2421
SUMMARY:Rally Experience
END:VEVENT
END:VCALENDAR