BEGIN:VCALENDAR
VERSION:2.0
PRODID:-//rooster/egg//NONSGML v1.0//EN
BEGIN:VTIMEZONE
TZID:Pacific/Auckland
TZURL:http://tzurl.org/zoneinfo-outlook/Pacific/Auckland
X-LIC-LOCATION:Pacific/Auckland
BEGIN:DAYLIGHT
TZOFFSETFROM:+1200
TZOFFSETTO:+1300
TZNAME:NZDT
DTSTART:19700927T020000
RRULE:FREQ=YEARLY;BYMONTH=9;BYDAY=-1SU
END:DAYLIGHT
BEGIN:STANDARD
TZOFFSETFROM:+1300
TZOFFSETTO:+1200
TZNAME:NZST
DTSTART:19700405T030000
RRULE:FREQ=YEARLY;BYMONTH=4;BYDAY=1SU
END:STANDARD
END:VTIMEZONE
BEGIN:VEVENT
ORGANIZER:Kim Garside:mailto:kim@allsmilez.com
DTSTART:20231224T090000
DTEND:20231224T110000
LOCATION:All Smilez, 141 Hukanui Rd, Hamilton
SEQUENCE:0
UID:869f196b05fec9efaeeeecb50ed13035eventspronto.co.nz
DTSTAMP:20260422T190035Z
DESCRIPTION:Come into the All Smilez studio and have fun painting pohutukawa with\nKim.\n\n2 hours of drawing and mixed medium painting.  Learn how to get\ninspiration for your art, and how to put your own spin it using\ndifferent techniques + materials/  colour, texture, pattern... etc. \nEach student will work to their own ability and confidence in decision\nmaking will grow. We will frame the art work in an A4 frame.\n\nEnjoy relaxing into your art with small number of kids in a real art\nstudio.  If your child is able to concentrate for 2 hours and be\nrespectful of other learners then this is the class for them.\n\n( you may bring a wee snack + drink bottle, but please not junk food,\nor messy food. )\n\nBOOK WITH SIBLINGS OR FRIENDS AND GET 10% OFF THE TOTAL FEES.\n\nNotice how many spaces are still available at the time of booking to\nmake sure no one misses out.\n\n \n\nSee you soon!\n\nKim\n\nwww.allsmilez.com\n - kim@allsmilez.com - https://www.eventspronto.co.nz/pohutukawa
SUMMARY:Pohutukawa Painting + A4 frame
END:VEVENT
END:VCALENDAR