BEGIN:VCALENDAR
VERSION:2.0
PRODID:-//rooster/egg//NONSGML v1.0//EN
BEGIN:VTIMEZONE
TZID:Pacific/Auckland
TZURL:http://tzurl.org/zoneinfo-outlook/Pacific/Auckland
X-LIC-LOCATION:Pacific/Auckland
BEGIN:DAYLIGHT
TZOFFSETFROM:+1200
TZOFFSETTO:+1300
TZNAME:NZDT
DTSTART:19700927T020000
RRULE:FREQ=YEARLY;BYMONTH=9;BYDAY=-1SU
END:DAYLIGHT
BEGIN:STANDARD
TZOFFSETFROM:+1300
TZOFFSETTO:+1200
TZNAME:NZST
DTSTART:19700405T030000
RRULE:FREQ=YEARLY;BYMONTH=4;BYDAY=1SU
END:STANDARD
END:VTIMEZONE
BEGIN:VEVENT
ORGANIZER:Larissa or Lara:mailto:info@waikatopotters.co.nz
DTSTART:20230604T100000
DTEND:20230625T130000
LOCATION:Waikato Society of Potters, Ward Park Arts Centre, Hamilton
SEQUENCE:0
UID:f09aabfcfe8710c126aae00482eed67beventspronto.co.nz
DTSTAMP:20260423T100549Z
DESCRIPTION:Sunday Mornings 10am - 1pm. (4 weeks)\n\nNau mai haere mai TOTAL BEGINNERS for a throwing taster.\n\nWant to learn to throw pots on the wheel? Join Sarah for a 4-week\nthrowing taster on Sunday Mornings.  \n\nThe Throwing Taster Sessions are tutored by Sarah Steed. It is a\n4-week course that will work on your throwing skills and set you up\nfor one of our longer courses next term.\n\n*Note: This class will run for an extra week as we will be closed for\nEaster weekend (9th April).\n\nCost of materials & firing is extra. Payments for materials & firing\ncan be paid at the society and will be determined on usage.\n\nPOPULAR COURSE - PLEASE PAY TO SECURE YOUR PLACE.\n\n \n\nTERMS AND CONDITIONS\n\nThe Waikato Society of Potters (WSP) reserves the right cancel a class\nif it fails to achieve minimum enrolment numbers, for reasons outside\nof our control. A full refund will be given if the class is cancelled\nby the WSP less a 5% credit card fee. If a student cancels their\nenrolment within 72 hours of the first class starting, no refund will\nbe given. If a student cancels their booking less than 7 days prior to\nthe event a 50% administration charge will be deducted from the\nrefund. Should a student cancel their enrolment any time prior to the\nabove a 20% administration fee will be deducted from the refund.\n\n_WSP does not provide makeup sessions or credits for classes that you\nhave missed due to your personal circumstances._\n - info@waikatopotters.co.nz - https://www.eventspronto.co.nz/sund_taster_class_term3
SUMMARY:Sunday Wheel Throwing Taster Class
END:VEVENT
END:VCALENDAR