BEGIN:VCALENDAR
VERSION:2.0
PRODID:-//rooster/egg//NONSGML v1.0//EN
BEGIN:VTIMEZONE
TZID:Pacific/Auckland
TZURL:http://tzurl.org/zoneinfo-outlook/Pacific/Auckland
X-LIC-LOCATION:Pacific/Auckland
BEGIN:DAYLIGHT
TZOFFSETFROM:+1200
TZOFFSETTO:+1300
TZNAME:NZDT
DTSTART:19700927T020000
RRULE:FREQ=YEARLY;BYMONTH=9;BYDAY=-1SU
END:DAYLIGHT
BEGIN:STANDARD
TZOFFSETFROM:+1300
TZOFFSETTO:+1200
TZNAME:NZST
DTSTART:19700405T030000
RRULE:FREQ=YEARLY;BYMONTH=4;BYDAY=1SU
END:STANDARD
END:VTIMEZONE
BEGIN:VEVENT
ORGANIZER:Helen Greenway:mailto:workshops@theincubator.co.nz
DTSTART:20230521T100000
DTEND:20230521T120000
LOCATION:The Creative Campus, 159 17th Ave, Tauranga
SEQUENCE:0
UID:2f766a088aa188859a58149be1e45d15eventspronto.co.nz
DTSTAMP:20260422T165317Z
DESCRIPTION: \n\nIt's a treat to have Anett Pilz back with her expensive knowledge\nabout glazes!\n\nThis is the second of 2 workshops delving into the world of\nglazes.  \n\nBring some vibrant colour into your pottery. \n\nYou can bring your own fired pots or get a piece of my work to\ndecorate. \n\nParticipants are going to use different techniques to decorate\nbisque-fired pottery. \n\n- How to create a pattern\n\n- Brushing thin lines\n\n- Stamping - Stencils\n\n- Bubble-Technique \n\n- Underglaze Pencils \n\n- Transfer Paper \n\n- applying glaze \n\nParticipants can be experienced potter or person, who has never\ndone any pottery before. This class is also suitable for children\naged 10 or older. \n\n \n\nDATE: SUNDAY 21 MAY\n\nTIME: 10AM - 12PM\n\nLOCATION: CREATIVE CAMPUS\n\nCOST: $65\n\nALL MATERIALS PROVIDED.\n\nOPEN TO THE BEGINNER AND ADVANCED POTTER.\n\n \n\n \n\n \n - workshops@theincubator.co.nz - https://www.eventspronto.co.nz/Anettglazetechniques
SUMMARY:Ceramic Decoration using Techniques
END:VEVENT
END:VCALENDAR