BEGIN:VCALENDAR
VERSION:2.0
PRODID:-//rooster/egg//NONSGML v1.0//EN
BEGIN:VTIMEZONE
TZID:Pacific/Auckland
TZURL:http://tzurl.org/zoneinfo-outlook/Pacific/Auckland
X-LIC-LOCATION:Pacific/Auckland
BEGIN:DAYLIGHT
TZOFFSETFROM:+1200
TZOFFSETTO:+1300
TZNAME:NZDT
DTSTART:19700927T020000
RRULE:FREQ=YEARLY;BYMONTH=9;BYDAY=-1SU
END:DAYLIGHT
BEGIN:STANDARD
TZOFFSETFROM:+1300
TZOFFSETTO:+1200
TZNAME:NZST
DTSTART:19700405T030000
RRULE:FREQ=YEARLY;BYMONTH=4;BYDAY=1SU
END:STANDARD
END:VTIMEZONE
BEGIN:VEVENT
ORGANIZER:Helen Greenway:mailto:workshops@theincubator.co.nz
DTSTART:20230514T150000
DTEND:20230514T180000
LOCATION:The Creative Campus, 159 17th Ave, Tauranga
SEQUENCE:0
UID:72ca226672df59e39b1de6f49f5ad940eventspronto.co.nz
DTSTAMP:20260423T083401Z
DESCRIPTION: \n\nThe Beautiful Art Of Tenango - Mexican Embroidery\n\n \n\nWe're excited to welcome back Francisca to share her love of\nembroidery.\n\nShe is passionate about teaching and keeping these traditions alive.\n\n \n\nDATE: 14 MAY 2023\n\nTIME: 3 - 5PM\n\nLOCATION: CREATIVE CAMPUS\n\nCOST: $75 \n\nEMBROIDERY  KIT INCLUDED\n\nAGES: 14+\n\n \n\nTenango is a Mexican Embroidery technique. It is a style full of\nvibrant colours and nature inspired designs.\n\nIn this Workshop you will learn about the origins of this type of\nembroidery and go through each technique: the Mexican stitches, and\nsome tricks and tips.\n\nYou will receive a full kit with all the materials required to\ncomplete a beautiful embroidery project that you can keep and take\nhome. \n\n \n\nAbout Francisca Fuentealba:\n\n"I am a freelance designer and artist. A few years ago I discovered a\npassion for embroidery. I have explored different types and techniques\nand over time I have started teaching and sharing my passion with\nothers".\n - workshops@theincubator.co.nz - https://www.eventspronto.co.nz/MexicanEmbroidery2
SUMMARY:The Beautiful Art of Tenango Mexican Embroidery
END:VEVENT
END:VCALENDAR