BEGIN:VCALENDAR
VERSION:2.0
PRODID:-//rooster/egg//NONSGML v1.0//EN
BEGIN:VTIMEZONE
TZID:Pacific/Auckland
TZURL:http://tzurl.org/zoneinfo-outlook/Pacific/Auckland
X-LIC-LOCATION:Pacific/Auckland
BEGIN:DAYLIGHT
TZOFFSETFROM:+1200
TZOFFSETTO:+1300
TZNAME:NZDT
DTSTART:19700927T020000
RRULE:FREQ=YEARLY;BYMONTH=9;BYDAY=-1SU
END:DAYLIGHT
BEGIN:STANDARD
TZOFFSETFROM:+1300
TZOFFSETTO:+1200
TZNAME:NZST
DTSTART:19700405T030000
RRULE:FREQ=YEARLY;BYMONTH=4;BYDAY=1SU
END:STANDARD
END:VTIMEZONE
BEGIN:VEVENT
ORGANIZER:Nigel Gregory:mailto:promo@theincubator.co.nz
DTSTART:20230415T193000
DTEND:20230415T213000
LOCATION:The Jam Factory, 159, 17th Avenue, Tauranga
SEQUENCE:0
UID:fd5c7da34e880df4359baeacf3071891eventspronto.co.nz
DTSTAMP:20260420T185420Z
DESCRIPTION:The songs are perfect for the summer, as sunshine comes pouring out of\nevery note, fresh and inviting, encouraging everyone who is listening\nto get up and dance.\n\n_'I love the backing vocals throughout the EP, as they add so much to\nwhat is undoubtedly a solid slice of being on the beach, sharing a\nbarbie and beer with friends while dancing the night away.'_ Kev\nRowland. Music.Net.NZ.\n\n \n\n \n - promo@theincubator.co.nz - https://www.eventspronto.co.nz/JohnMichaelz1
SUMMARY:John Michaelz & The Black Brothers Band
END:VEVENT
END:VCALENDAR