BEGIN:VCALENDAR
VERSION:2.0
PRODID:-//rooster/egg//NONSGML v1.0//EN
BEGIN:VTIMEZONE
TZID:Pacific/Auckland
TZURL:http://tzurl.org/zoneinfo-outlook/Pacific/Auckland
X-LIC-LOCATION:Pacific/Auckland
BEGIN:DAYLIGHT
TZOFFSETFROM:+1200
TZOFFSETTO:+1300
TZNAME:NZDT
DTSTART:19700927T020000
RRULE:FREQ=YEARLY;BYMONTH=9;BYDAY=-1SU
END:DAYLIGHT
BEGIN:STANDARD
TZOFFSETFROM:+1300
TZOFFSETTO:+1200
TZNAME:NZST
DTSTART:19700405T030000
RRULE:FREQ=YEARLY;BYMONTH=4;BYDAY=1SU
END:STANDARD
END:VTIMEZONE
BEGIN:VEVENT
ORGANIZER:Tanya Trass:mailto:info@theincubator.co.nz
DTSTART:20221211T150000
DTEND:20221211T173000
LOCATION:The Jam Factory, 159, 17th Avenue, Tauranga
SEQUENCE:0
UID:c15a156dc4ab98dd24ea92eb173fd92eeventspronto.co.nz
DTSTAMP:20260420T190001Z
DESCRIPTION:JOHN MICHAELZ: VOCALS/RHYTHM GUITAR\n\nNominated for a NZ Tui Award in 2010 for his Gospel album, Walk On\nWater with ten albums to his credit and known for his high-octane\nstage performances fronting rock bands Hard To Handle, The Stone\nBabies and Kosher.  John Michaelz' latest work combines his love of\nReggae and his prowess for writing a great song.  John's albums\ninclude fine contributions from the likes of Shona Laning, Rodger Fox,\nRitchie Pickett, Gordon Joll (Herbs and Hellow Sailer) Alan Norman\n(The Warratahs, The Rag Poets) Liam Ryan (The Narcs) to mention a\nfew.  John has toured with Renee Gever, American blues men Robert\nPenn and Junior Medlow.  Born in Motueka, Aotearoa and raised in\nIceland for 17 years, John returned to New Zealand in 1987, furthering\na lifetime career in music.\n\nMIKE KIRK: GUITARS\n\nKnown for his versatility as a guitarist, stalwart of the Bay of\nPlenty NZ music scene, Mike Kirk has been a key member of many bands\nover the decades, as well as the 1970’s punk-rock band The Rodents\nduring his two year stint in Manchester, UK.  More recently Mike has\nplayed with Human Instinct (Maurice Greer) and In Orbit (Corben\nSimpson).  It has been said that once you’ve worked with Mike,\nthere’s something missing, if he’s not in the band.\n\nTHE BLACK BROTHERS\n\nGARY BLACK:  BASS GUITAR AND BVS:\n\nWAYNE BLACK: DRUMS AND BVS\n\nThe Black Brothers have been in the music biz for over 50 years. \nThey grew up listening to the likes of Tex Morton and Rusty Greaves\nplaying in their living room, before going on to work with countless\nKiwi music artists including Prince Tui Teka, Dalvanius, Brendan\nDugan, Eddie Low, Frankie Stevens, Ritchie Pickett, Corben Simpson,\nHuman Instinct, The Bad News Band – the list is endless\n\n \n - info@theincubator.co.nz - https://www.eventspronto.co.nz/johnmichaelz
SUMMARY:John Michaelz and the Black Brothers Band
END:VEVENT
END:VCALENDAR