BEGIN:VCALENDAR
VERSION:2.0
PRODID:-//rooster/egg//NONSGML v1.0//EN
BEGIN:VTIMEZONE
TZID:Pacific/Auckland
TZURL:http://tzurl.org/zoneinfo-outlook/Pacific/Auckland
X-LIC-LOCATION:Pacific/Auckland
BEGIN:DAYLIGHT
TZOFFSETFROM:+1200
TZOFFSETTO:+1300
TZNAME:NZDT
DTSTART:19700927T020000
RRULE:FREQ=YEARLY;BYMONTH=9;BYDAY=-1SU
END:DAYLIGHT
BEGIN:STANDARD
TZOFFSETFROM:+1300
TZOFFSETTO:+1200
TZNAME:NZST
DTSTART:19700405T030000
RRULE:FREQ=YEARLY;BYMONTH=4;BYDAY=1SU
END:STANDARD
END:VTIMEZONE
BEGIN:VEVENT
ORGANIZER:Larissa Milsum:mailto:info@waikatopotters.co.nz
DTSTART:20220717T093000
DTEND:20220717T173000
LOCATION:Waikato Society of Potters, 2 Seddon Road, Hamilton
SEQUENCE:0
UID:cf41e1f76758c18c208a8bb24ae85243eventspronto.co.nz
DTSTAMP:20260421T105107Z
DESCRIPTION:Kiln Licence Workshop\n\nThis workshop is for people who are wanting to hire an electric kiln\nat WSP. The course will be a 1-day workshop that will cover both\ntheory and practical aspects to hiring and using WSP kilns. \n\nThis course will cover how to load and unload kilns in a safe and\nappropriate manner, what is happening inside a kiln during a firing,\nchemical changes in the pottery, what can go wrong in a kiln and what\nkind of damage can be done and how electric kiln programs work. \n\nTo hire a kiln and fire at WSP you will need to hold a valid WSP Kiln\nLicence.\n\n \n\nTerms and Conditions\n\n"The Waikato Society of Potters (WSP) reserves the right cancel a\nclass if it fails to achieve minimum enrolment numbers, for reasons\noutside of our control. A full refund will be given if the class is\ncancelled by the WSP less a 5% credit card fee. If a student cancels\ntheir enrolment within 72 hours of the first class starting, no refund\nwill be given. If a student cancels their booking less than 7 days\nprior to the event a 50% administration charge will be deducted from\nthe refund. Should a student cancel their enrolment any time prior to\nthe above a 20% administration fee will be deducted from the refund."\n\nIf you have your own private kiln and are wondering how to operate it\nthen this is also a perfect course for you to learn more about it.\n - info@waikatopotters.co.nz - https://www.eventspronto.co.nz/event4378
SUMMARY:Kiln License Course
END:VEVENT
END:VCALENDAR