BEGIN:VCALENDAR
VERSION:2.0
PRODID:-//rooster/egg//NONSGML v1.0//EN
BEGIN:VTIMEZONE
TZID:Pacific/Auckland
TZURL:http://tzurl.org/zoneinfo-outlook/Pacific/Auckland
X-LIC-LOCATION:Pacific/Auckland
BEGIN:DAYLIGHT
TZOFFSETFROM:+1200
TZOFFSETTO:+1300
TZNAME:NZDT
DTSTART:19700927T020000
RRULE:FREQ=YEARLY;BYMONTH=9;BYDAY=-1SU
END:DAYLIGHT
BEGIN:STANDARD
TZOFFSETFROM:+1300
TZOFFSETTO:+1200
TZNAME:NZST
DTSTART:19700405T030000
RRULE:FREQ=YEARLY;BYMONTH=4;BYDAY=1SU
END:STANDARD
END:VTIMEZONE
BEGIN:VEVENT
ORGANIZER:Tanya Trass:mailto:info@theincubator.co.nz
DTSTART:20220701T190000
DTEND:20220701T213000
LOCATION:The Jam Factory, 159, 17th Avenue, Tauranga
SEQUENCE:0
UID:b1af37d061716f5a6b9459a950d03ab0eventspronto.co.nz
DTSTAMP:20260425T205050Z
DESCRIPTION:Adam McGrath is a folk singer stationed wherever he lands. He travels\nthe state highways and byways of New Zealand, Australia, Europe and\nparts beyond, slinging songs and offering up low rent barroom\nphilosophy both solo and with his band of chancers, The Eastern. His\nsongs have gathered more than their share of good reviews in NZ and\noverseas, he's been nominated for a couple of serious music awards\n(including the Apra Silver Scroll), Graham Reid from the NZ herald\ncalled him 'NZ's toughest minded songwriter’ and Barry Saunders from\nThe Warratahs simply described him as “The Truth” while Radio New\nZealand referred to him as a “National Treasure”. With The Eastern\nand solo he has shared stages with and opened for Fleetwood Mac, Steve\nEarle, Old Crow Medicine Show, Jimmy Barnes, Paul Kelly, Rodriguez,\nand many more. He takes the most pride though in getting up and\nputting it down, in both small towns and big.\n\n \n\n[THE FAMOUS ELSEWHERE QUESTIONNAIRE: Adam McGrath of the Eastern |\nElsewhere by Graham Reid]\n - info@theincubator.co.nz - https://www.eventspronto.co.nz/adammcgrath
SUMMARY:Adam McGrath
END:VEVENT
END:VCALENDAR