BEGIN:VCALENDAR
VERSION:2.0
PRODID:-//rooster/egg//NONSGML v1.0//EN
BEGIN:VTIMEZONE
TZID:Pacific/Auckland
TZURL:http://tzurl.org/zoneinfo-outlook/Pacific/Auckland
X-LIC-LOCATION:Pacific/Auckland
BEGIN:DAYLIGHT
TZOFFSETFROM:+1200
TZOFFSETTO:+1300
TZNAME:NZDT
DTSTART:19700927T020000
RRULE:FREQ=YEARLY;BYMONTH=9;BYDAY=-1SU
END:DAYLIGHT
BEGIN:STANDARD
TZOFFSETFROM:+1300
TZOFFSETTO:+1200
TZNAME:NZST
DTSTART:19700405T030000
RRULE:FREQ=YEARLY;BYMONTH=4;BYDAY=1SU
END:STANDARD
END:VTIMEZONE
BEGIN:VEVENT
ORGANIZER:Alyssa Reed:mailto:alyssa@remakerspace.co.nz
DTSTART:20220212T100000
DTEND:20220212T120000
LOCATION:Remaker, 27 Spring Street, Tauranga
SEQUENCE:0
UID:cbf75710b77366aa10faf07f7fd00404eventspronto.co.nz
DTSTAMP:20260420T045723Z
DESCRIPTION:Create a beautifully unique design on fabric using the Tataki Zome\nPlant Hammering technique. You’ll be provided with an array of\nflowers and leaves to work with, arranging them how you please to\ncolour the fabric. After learning the hammering technique, take the\nfinished piece home for use in your home as a table runner, wall\ntapestry, cushion cover or as an alternative to gift wrap.\n\nNo experience necessary. All materials will be provided. If you would\nlike to bring your own material, choose 100% cotton fabric. \n\nSneak a peek at Melissa's past Tataki Zome work here\n[https://www.instagram.com/p/CVCRz9OJ3vu/]. \n\nSpace is limited to 6 places, so get in quick!\n\n \n\nABOUT THE ARTIST:\n\nLong time Bay of Plenty local, MELISSA SPARGO is following a family\ntradition of working with plant dyes. She is also passionate about\nhelping divert fabric waste from landfill so combines these to weave\nwall hangings, as well as to create a myriad of other bohemian style\nhome & garden décor items.\n\nUsing seasonal gatherings from Mother Nature to extract plant dyes,\nMelissa loves to share her personal ethics behind the work she does\nand to inspire enthusiasm for the wonder of what Nature can provide!\n\n \n - alyssa@remakerspace.co.nz - https://www.eventspronto.co.nz/woventhreads2
SUMMARY:Tataki Zome Plant Hammering Technique
END:VEVENT
END:VCALENDAR