BEGIN:VCALENDAR
VERSION:2.0
PRODID:-//rooster/egg//NONSGML v1.0//EN
BEGIN:VTIMEZONE
TZID:Pacific/Auckland
TZURL:http://tzurl.org/zoneinfo-outlook/Pacific/Auckland
X-LIC-LOCATION:Pacific/Auckland
BEGIN:DAYLIGHT
TZOFFSETFROM:+1200
TZOFFSETTO:+1300
TZNAME:NZDT
DTSTART:19700927T020000
RRULE:FREQ=YEARLY;BYMONTH=9;BYDAY=-1SU
END:DAYLIGHT
BEGIN:STANDARD
TZOFFSETFROM:+1300
TZOFFSETTO:+1200
TZNAME:NZST
DTSTART:19700405T030000
RRULE:FREQ=YEARLY;BYMONTH=4;BYDAY=1SU
END:STANDARD
END:VTIMEZONE
BEGIN:VEVENT
ORGANIZER:Kathy Webb:mailto:kathy@socialink.org.nz
DTSTART:20220506T090000
DTEND:20220603T120000
LOCATION:The Kollective, 143 Seventeenth Ave West, Tauranga
SEQUENCE:0
UID:42ef353a2a0b0f284d2a602f2a33907beventspronto.co.nz
DTSTAMP:20260425T014025Z
DESCRIPTION:A series of three workshops that will give you all the skills to\nperform well on a range of platforms including Facebook, Instagram,\nLinkedIn. Leeann Bassett of Face Up Now will lead us through the maze\nof platforms and social media tools.\n\nCHOOSE ONE WORKSHOP OR REGISTER FOR ALL THREE. $50 PER WORKSHOP OR\n$130 FOR ALL THREE. SUBSIDISED BY BAY TRUST FOR NOT FOR PROFIT\nORGANISATIONS.\n\nWORKSHOP ONE - Using Instagram and LinkedIn to help your social\nservice thrive. Learn the basics of Instagram, and how to leverage\nLinkedIn to help your social service thrive.\n\nFriday 6 May 9am - 12 noon\n\nWORKSHOP TWO - Social Media Strategy: Learn what makes a great social\nmedia presence. How to build an engaged following through a wide\nvariety of content. How to create a content plan for the year ahead.\n\nFriday 20 May - 9am - 12 noon\n\nWORKSHOP THREE - Facebook: - learn about recent changes and updates,\nwhat's working in 2022 and how to optimise your page.  Learn when to\nspend money on reaching your people, how to grow your following, drive\npeople to your website and attend your events.\n\nFriday 3rd June - 9am - 12 noon\n\nSOME COMMENTS ON GOOGLE FROM PEOPLE WHO HAVE WORKED WITH LEEANN FROM\nFACE UP NOW:\n\nGreat intro course covering alot of ground. Leeann is a fabulous\npresenter with a wealth of knowledge. Adaptable to the business needs\nin attendance. Thanks so much. \n\nI really enjoyed the training session with Leeann and liked her\nrelaxed warm style. I learnt so much and appreciated her tailoring it\nto our specific skill level.\n\nLeeann from Face Up Now cuts through all the complexity of soclal\nmedia to make it easy for a business to understand what we need to do.\nShe's VERY patient and since she's an ex-teacher knows how to teach!\n\nExcellent Workshop Highly recommend.\n\nLeeann has such a great depth of knowledge around how to use social\nmedia effectively.  I’ve learnt a lot with her and will definitely\ncontinue to keep up skilling with her help.  Highly recommended.\n - kathy@socialink.org.nz - https://www.eventspronto.co.nz/event3584
SUMMARY:Social Media for Not for Profits
END:VEVENT
END:VCALENDAR