BEGIN:VCALENDAR
VERSION:2.0
PRODID:-//rooster/egg//NONSGML v1.0//EN
BEGIN:VTIMEZONE
TZID:Pacific/Auckland
TZURL:http://tzurl.org/zoneinfo-outlook/Pacific/Auckland
X-LIC-LOCATION:Pacific/Auckland
BEGIN:DAYLIGHT
TZOFFSETFROM:+1200
TZOFFSETTO:+1300
TZNAME:NZDT
DTSTART:19700927T020000
RRULE:FREQ=YEARLY;BYMONTH=9;BYDAY=-1SU
END:DAYLIGHT
BEGIN:STANDARD
TZOFFSETFROM:+1300
TZOFFSETTO:+1200
TZNAME:NZST
DTSTART:19700405T030000
RRULE:FREQ=YEARLY;BYMONTH=4;BYDAY=1SU
END:STANDARD
END:VTIMEZONE
BEGIN:VEVENT
ORGANIZER:Alyssa Reed:mailto:alyssa@remakerspace.co.nz
DTSTART:20211117T190000
DTEND:20211117T210000
LOCATION:Remaker, 27 Spring Street, Tauranga
SEQUENCE:0
UID:b73f1232aec3b77db9346e5387a7e5aceventspronto.co.nz
DTSTAMP:20260420T080637Z
DESCRIPTION:In this 2 hour workshop you will use your existing sewing skills to\ncreate a bumbag that will see you through the summer! Basic sewing\nexperience is absolutely necessary! This one’s a little bit\ntechnical but my god is it satisfying! Bring some awesome fabric with\nyou or use the salvaged fabrics we have at ReMaker. (Get creative too\n- maybe you have an old shirt at home that you’ve already been\nspotted in and it’s time to mix things up? Use the rest of the\nfabric to make a matching beret? [😉] Surely.)\n\nYou will spend the first 30 minutes cutting out your fabrics, then\napprox 1.5 hours constructing the bumbag which will include inserting\na zip. (Don’t worry it’s easier than it sounds I promise) Fabric\nneeds to be approx 100 x 50 cm for the outer, and a medium weight\n(remember the bumbag has to be quite sturdy as you will be rocking out\nall summer)!\n\nFor ages 16+ with previous sewing experience. \n\n \n\n \n\n \n\n \n - alyssa@remakerspace.co.nz - https://www.eventspronto.co.nz/bumbag4
SUMMARY:Sew a Bumbag
END:VEVENT
END:VCALENDAR