BEGIN:VCALENDAR
VERSION:2.0
PRODID:-//rooster/egg//NONSGML v1.0//EN
BEGIN:VTIMEZONE
TZID:Pacific/Auckland
TZURL:http://tzurl.org/zoneinfo-outlook/Pacific/Auckland
X-LIC-LOCATION:Pacific/Auckland
BEGIN:DAYLIGHT
TZOFFSETFROM:+1200
TZOFFSETTO:+1300
TZNAME:NZDT
DTSTART:19700927T020000
RRULE:FREQ=YEARLY;BYMONTH=9;BYDAY=-1SU
END:DAYLIGHT
BEGIN:STANDARD
TZOFFSETFROM:+1300
TZOFFSETTO:+1200
TZNAME:NZST
DTSTART:19700405T030000
RRULE:FREQ=YEARLY;BYMONTH=4;BYDAY=1SU
END:STANDARD
END:VTIMEZONE
BEGIN:VEVENT
ORGANIZER:Alyssa Reed:mailto:alyssa@remakerspace.co.nz
DTSTART:20211007T100000
DTEND:20211007T110000
LOCATION:ReMaker Space, 91 Willow Street, Tauranga
SEQUENCE:0
UID:ad254b1e219bc9b8cc45ff9572b5f03beventspronto.co.nz
DTSTAMP:20260425T110115Z
DESCRIPTION:Join us for a  session of pebble painting with Luca and Micah,\ncreators of LuMi workshops. You will learn how to mix colours as well\nas to create your own ‘find me-hide me’ pebble. You can either\nbring along your favourite pebbles or use the ones we will have ready\nfor you.\n\nFor ages 5+. \n\nWe're excited to see you! \n\n \n - alyssa@remakerspace.co.nz - https://www.eventspronto.co.nz/pebblepainting2
SUMMARY:Pebble Painting - Cancelled
END:VEVENT
END:VCALENDAR