BEGIN:VCALENDAR
VERSION:2.0
PRODID:-//rooster/egg//NONSGML v1.0//EN
BEGIN:VTIMEZONE
TZID:Pacific/Auckland
TZURL:http://tzurl.org/zoneinfo-outlook/Pacific/Auckland
X-LIC-LOCATION:Pacific/Auckland
BEGIN:DAYLIGHT
TZOFFSETFROM:+1200
TZOFFSETTO:+1300
TZNAME:NZDT
DTSTART:19700927T020000
RRULE:FREQ=YEARLY;BYMONTH=9;BYDAY=-1SU
END:DAYLIGHT
BEGIN:STANDARD
TZOFFSETFROM:+1300
TZOFFSETTO:+1200
TZNAME:NZST
DTSTART:19700405T030000
RRULE:FREQ=YEARLY;BYMONTH=4;BYDAY=1SU
END:STANDARD
END:VTIMEZONE
BEGIN:VEVENT
ORGANIZER:Wendy Pedersen:mailto:mail@theincubator.co.nz
DTSTART:20211030T090000
DTEND:20211031T160000
LOCATION:The Artery Art Learning Space, 159 17th Ave, Tauranga
SEQUENCE:0
UID:a26194884ba6dffddbef08113bb1de86eventspronto.co.nz
DTSTAMP:20260424T175237Z
DESCRIPTION:Explore how to use the tools needed to craft your own original\nsculpture in Oamaru stone. Design and draw your original 2D pattern\nand learn how to convert it into a 3D sculpture. This workshop will\ncover the basic carving techniques and skills to shape soft Oamaru\nstone. With a max of 5 students Rex will be able provide one on one\ntuition\n\n \n\nJoin other beginner sculptors in a supportive atmosphere, outside\nunder the gazebo situated in a sheltered courtyard behind The Artery.\nParticipants should bring an idea or what they might like to produce\nover the weekend. All the stone and carving tools and PPE gear are\nsupplied, please wear closed in shoes, old clothes and a bring a\npacked lunch. There is also a café just down the road.\n\nTutor: Rex O’Brien\n\nOne full Weekend\n\nDates: 30th and 31st October 2021\n\nTime 9am – 4pm\n\nCost $295\n\nAll Materials, Safety Gear and Tools Supplied. Bring a packed lunch\nany tools you may wish to use, wear closed shoes\n\nRex holds a Diploma in Art from Toi Ohomai Institute of Technology and\nhas been carving for over 18 years. An award-winning sculptor, Rex has\nbeen instrumental in organising and participating in carving\nsymposiums nationwide\n\n - mail@theincubator.co.nz - https://www.eventspronto.co.nz/stonecarvingoctober
SUMMARY:Stone Carving For Beginners
END:VEVENT
END:VCALENDAR