BEGIN:VCALENDAR
VERSION:2.0
PRODID:-//rooster/egg//NONSGML v1.0//EN
BEGIN:VTIMEZONE
TZID:Pacific/Auckland
TZURL:http://tzurl.org/zoneinfo-outlook/Pacific/Auckland
X-LIC-LOCATION:Pacific/Auckland
BEGIN:DAYLIGHT
TZOFFSETFROM:+1200
TZOFFSETTO:+1300
TZNAME:NZDT
DTSTART:19700927T020000
RRULE:FREQ=YEARLY;BYMONTH=9;BYDAY=-1SU
END:DAYLIGHT
BEGIN:STANDARD
TZOFFSETFROM:+1300
TZOFFSETTO:+1200
TZNAME:NZST
DTSTART:19700405T030000
RRULE:FREQ=YEARLY;BYMONTH=4;BYDAY=1SU
END:STANDARD
END:VTIMEZONE
BEGIN:VEVENT
ORGANIZER:Tanya Trass:mailto:info@theincubator.co.nz
DTSTART:20220423T190000
DTEND:20220423T213000
LOCATION:The Jam Factory, 159, 17th Avenue, Tauranga
SEQUENCE:0
UID:7da3b61bc0f7394f42fc297e80af7098eventspronto.co.nz
DTSTAMP:20260425T133411Z
DESCRIPTION:Best Country Song Finalist and Best Country Artist Finalist Kendall\nElise and her band bring you a whole new album - Let The Night In,\nfilled with alternative folk, country, rock and r&b styled tracks -\nWith Kendall's powerful vocals and her highly decorated band the show\nwill be both raw and polished. Expect to want to get up and dance.\n\n \n\n - info@theincubator.co.nz - https://www.eventspronto.co.nz/kendallelise
SUMMARY:Kendall Elise
END:VEVENT
END:VCALENDAR