BEGIN:VCALENDAR
VERSION:2.0
PRODID:-//rooster/egg//NONSGML v1.0//EN
BEGIN:VTIMEZONE
TZID:Pacific/Auckland
TZURL:http://tzurl.org/zoneinfo-outlook/Pacific/Auckland
X-LIC-LOCATION:Pacific/Auckland
BEGIN:DAYLIGHT
TZOFFSETFROM:+1200
TZOFFSETTO:+1300
TZNAME:NZDT
DTSTART:19700927T020000
RRULE:FREQ=YEARLY;BYMONTH=9;BYDAY=-1SU
END:DAYLIGHT
BEGIN:STANDARD
TZOFFSETFROM:+1300
TZOFFSETTO:+1200
TZNAME:NZST
DTSTART:19700405T030000
RRULE:FREQ=YEARLY;BYMONTH=4;BYDAY=1SU
END:STANDARD
END:VTIMEZONE
BEGIN:VEVENT
ORGANIZER:Tanya Trass:mailto:info@theincubator.co.nz
DTSTART:20210703T130000
DTEND:20210703T150000
LOCATION:The Artery Art Learning Space, 159, 17th Avenue, Tauranga
SEQUENCE:0
UID:8e072b678ee4010afdf8ba326aa453c8eventspronto.co.nz
DTSTAMP:20260423T045010Z
DESCRIPTION:THESE WORKSHOPS ARE FREE TO ATTEND. YOU MAY ONLY BOOK INTO ONE\nWORKSHOP, SO WE CAN SHARE THE AROHA AMONGST MANY PEOPLE. \n\nWE ASK YOU TO BE RESPECTFUL. \n\nIF YOU BOOK INTO MORE THAN ONE YOU  WILL BE REMOVED FROM THE LIST, SO\nPLEASE CHOOSE CAREFULLY.\n\nTHE REGISTRATIONS WILL OPEN ONE WEEK PRIOR TO THE WORKSHOP AND WE WILL\nNOTIFY THROUGH THE INCUBATOR AND OKORORE SOCIAL MEDIA PAGES WHEN\nREGISTRATIONS ARE OPEN.\n\nWE WELCOME YOU TO CONTRIBUTE KOHA WHICH WILL GO BACK TO THE COMMUNITY\nPROGRAMMES WE RUN.\n - info@theincubator.co.nz - https://www.eventspronto.co.nz/balmsnettieblack
SUMMARY:Balms with Aotearoa Rongoa
END:VEVENT
END:VCALENDAR