BEGIN:VCALENDAR
VERSION:2.0
PRODID:-//rooster/egg//NONSGML v1.0//EN
BEGIN:VTIMEZONE
TZID:Pacific/Auckland
TZURL:http://tzurl.org/zoneinfo-outlook/Pacific/Auckland
X-LIC-LOCATION:Pacific/Auckland
BEGIN:DAYLIGHT
TZOFFSETFROM:+1200
TZOFFSETTO:+1300
TZNAME:NZDT
DTSTART:19700927T020000
RRULE:FREQ=YEARLY;BYMONTH=9;BYDAY=-1SU
END:DAYLIGHT
BEGIN:STANDARD
TZOFFSETFROM:+1300
TZOFFSETTO:+1200
TZNAME:NZST
DTSTART:19700405T030000
RRULE:FREQ=YEARLY;BYMONTH=4;BYDAY=1SU
END:STANDARD
END:VTIMEZONE
BEGIN:VEVENT
ORGANIZER:Tanya Trass:mailto:info@theincubator.co.nz
DTSTART:20210605T190000
DTEND:20210605T210000
LOCATION:The Jam Factory, 159, 17th Avenue, Tauranga
SEQUENCE:0
UID:fdd8a355d5fff80402c7b9e5da1a5a49eventspronto.co.nz
DTSTAMP:20260422T085020Z
DESCRIPTION:"For those who are partial to female folk singers, Anna Hawkins is a\nreal deal, home-grown talent” (Keeping Up With NZ)\n\nKnown for her expressive tone and moving interpretations “with a\nvoice that has the power to uplift - irrespective of the song being\nsung” (NZ Musician) Anna’s music has been described as captivating\nand ethereal. “With a voice range and expressive tone that could\nturn a nursery rhyme into something beautiful” (Sunday Star Times)\n\nAnna will perform several intimate shows to celebrate the release of\nher latest album Dreamer. The album captures an authentic folk style\nwhile showcasing Anna’s colourful classical range and haunting\nvoice.\n\nAccompanied by a three piece band featuring, finger style guitar,\nmandolin, fiddle, keys and tin whistle, Anna’s live show promises to\nmove and inspire. Featuring songs from Dreamer alongside folk classics\nthe concert will appeal to fans of Joan Baez, Loreena McKennit, Judy\nCollins and Civil Wars, Joy Williams.\n\nhttps://www.youtube.com/watch?v=okhW7oBXSSc\n\nhttps://www.youtube.com/watch?v=cIvDd1byv6E\n\n \n\n \n - info@theincubator.co.nz - https://www.eventspronto.co.nz/annahawkins
SUMMARY:Anna Hawkins
END:VEVENT
END:VCALENDAR