BEGIN:VCALENDAR
VERSION:2.0
PRODID:-//rooster/egg//NONSGML v1.0//EN
BEGIN:VTIMEZONE
TZID:Pacific/Auckland
TZURL:http://tzurl.org/zoneinfo-outlook/Pacific/Auckland
X-LIC-LOCATION:Pacific/Auckland
BEGIN:DAYLIGHT
TZOFFSETFROM:+1200
TZOFFSETTO:+1300
TZNAME:NZDT
DTSTART:19700927T020000
RRULE:FREQ=YEARLY;BYMONTH=9;BYDAY=-1SU
END:DAYLIGHT
BEGIN:STANDARD
TZOFFSETFROM:+1300
TZOFFSETTO:+1200
TZNAME:NZST
DTSTART:19700405T030000
RRULE:FREQ=YEARLY;BYMONTH=4;BYDAY=1SU
END:STANDARD
END:VTIMEZONE
BEGIN:VEVENT
ORGANIZER:Sarah Wolf:mailto:manager@waikatopotters.co.nz
DTSTART:20210508T093000
DTEND:20210509T160000
LOCATION:Waikato Society of Potters, Ward Park Arts Centre, Hamilton
SEQUENCE:0
UID:784aeba3427561f65fad97a4b232bd35eventspronto.co.nz
DTSTAMP:20260420T044003Z
DESCRIPTION: Waikato Society of Potters has a treat for experienced throwers. \n   \n We are excited to be hosting New Zealand ceramic artist Chris Weaver\nwho is internationlly renowned for his innovative contemporary\ntableware. The 2-day workshop is an opportunity for experienced\nthrowers to have a hands-on wheel work class with Chris. Generous with\nhis "secrets", Chris will provide demonstrations of the throwing and\naltering techniques he has developed across his 40 year career: even\nthe most angular of the teapots that he currently makes start off as a\nthrown form. \n   \n Saturday 8 - Sunday 9 May 2021 9.30am-4pm at Waikato Society of\nPotters, Ward Park Arts Centre, Seddon Road, Hamilton \n   \n Clay and firing are extra. - manager@waikatopotters.co.nz - https://www.eventspronto.co.nz/event4364
SUMMARY:A wheel throwing masterclass with Chris Weaver
END:VEVENT
END:VCALENDAR