BEGIN:VCALENDAR
VERSION:2.0
PRODID:-//rooster/egg//NONSGML v1.0//EN
BEGIN:VTIMEZONE
TZID:Pacific/Auckland
TZURL:http://tzurl.org/zoneinfo-outlook/Pacific/Auckland
X-LIC-LOCATION:Pacific/Auckland
BEGIN:DAYLIGHT
TZOFFSETFROM:+1200
TZOFFSETTO:+1300
TZNAME:NZDT
DTSTART:19700927T020000
RRULE:FREQ=YEARLY;BYMONTH=9;BYDAY=-1SU
END:DAYLIGHT
BEGIN:STANDARD
TZOFFSETFROM:+1300
TZOFFSETTO:+1200
TZNAME:NZST
DTSTART:19700405T030000
RRULE:FREQ=YEARLY;BYMONTH=4;BYDAY=1SU
END:STANDARD
END:VTIMEZONE
BEGIN:VEVENT
ORGANIZER:Stephen Williams:mailto:info@waikatopotters.co.nz
DTSTART:20210419T180000
DTEND:20210503T210000
LOCATION:Waikato Society of Potters, Ward Park Arts Centre, Hamilton
SEQUENCE:0
UID:43e622e5e9a64716b0110ac812345799eventspronto.co.nz
DTSTAMP:20260424T101024Z
DESCRIPTION:SUITABLE FOR: BEGINNERS\n\n \n\nCome join Lara on a 3-week mini-series exploring an introduction to\nhand building. Lara has a special interest in incorporating surface\ntexture into her clay forms.\n\n \n\nLara loves making clay homes for her beloved leaf babies. If like her\nyou have a special plant that needs needs a VIP abode, come and join\nthis class and make the planter of your dreams.\n\n \n\nIn this course you will start out with the basics - a pinch pot and\nhow to add feet onto it. Each week you will look at additional\ntechniques, and in your final class you will learn how to glaze the\nforms you have made.\n\n \n\nClay and firing (including glazing) costs are extra.\n\n \n \n - info@waikatopotters.co.nz - https://www.eventspronto.co.nz/event3860
SUMMARY:Monday Night Hand building
END:VEVENT
END:VCALENDAR