BEGIN:VCALENDAR
VERSION:2.0
PRODID:-//rooster/egg//NONSGML v1.0//EN
BEGIN:VTIMEZONE
TZID:Pacific/Auckland
TZURL:http://tzurl.org/zoneinfo-outlook/Pacific/Auckland
X-LIC-LOCATION:Pacific/Auckland
BEGIN:DAYLIGHT
TZOFFSETFROM:+1200
TZOFFSETTO:+1300
TZNAME:NZDT
DTSTART:19700927T020000
RRULE:FREQ=YEARLY;BYMONTH=9;BYDAY=-1SU
END:DAYLIGHT
BEGIN:STANDARD
TZOFFSETFROM:+1300
TZOFFSETTO:+1200
TZNAME:NZST
DTSTART:19700405T030000
RRULE:FREQ=YEARLY;BYMONTH=4;BYDAY=1SU
END:STANDARD
END:VTIMEZONE
BEGIN:VEVENT
ORGANIZER:Stephen Williams:mailto:info@waikatopotters.co.nz
DTSTART:20210423T180000
DTEND:20210507T210000
LOCATION:Waikato Society of Potters, Ward Park Arts Centre, Hamilton
SEQUENCE:0
UID:95efb202f9ed3e80a90c0823ff831a95eventspronto.co.nz
DTSTAMP:20260420T043650Z
DESCRIPTION:   \n SUITABLE FOR: NOVICE POTTERS WHO HAVE RECENTLY OR HAVE TAKEN A CLASS\nIN THE PAST. \n   \n 6-9PM ON FRIDAYS, 23 APRIL - 7 MAY 2021 (3 WEEKS)  \n   \n I’d love to share with you my passion for pottery! \n   \n This class will build upon your existing techniques and help you\nimprove your throwing. Join me for a 3-week mini term covering: \n\n 	* Continuation on your techniques for centring and throwing simple\npots on the wheel.\n 	* How to trim/turn your pots on the wheel when they are\nleather-hard.\n 	* Different kiln firings and glazings to create a beautiful piece to\ntake home. \n\nAn excellent class to expand your skills on the pottery wheel!\n\n \n\nAs this is a 3-week class, the focus will be on throwing and turning\nyour pieces. \n\n \n\nClay and firing (including glazing) costs are extra.\n\n \n \n - info@waikatopotters.co.nz - https://www.eventspronto.co.nz/event3857
SUMMARY:Friday night  Wheel-throwing class for  beginners-intermediate
END:VEVENT
END:VCALENDAR