BEGIN:VCALENDAR
VERSION:2.0
PRODID:-//rooster/egg//NONSGML v1.0//EN
BEGIN:VTIMEZONE
TZID:Pacific/Auckland
TZURL:http://tzurl.org/zoneinfo-outlook/Pacific/Auckland
X-LIC-LOCATION:Pacific/Auckland
BEGIN:DAYLIGHT
TZOFFSETFROM:+1200
TZOFFSETTO:+1300
TZNAME:NZDT
DTSTART:19700927T020000
RRULE:FREQ=YEARLY;BYMONTH=9;BYDAY=-1SU
END:DAYLIGHT
BEGIN:STANDARD
TZOFFSETFROM:+1300
TZOFFSETTO:+1200
TZNAME:NZST
DTSTART:19700405T030000
RRULE:FREQ=YEARLY;BYMONTH=4;BYDAY=1SU
END:STANDARD
END:VTIMEZONE
BEGIN:VEVENT
ORGANIZER:Tanya Trass:mailto:info@theincubator.co.nz
DTSTART:20210515T190000
DTEND:20210515T213000
LOCATION:The Jam Factory, 159, 17th Avenue, Tauranga
SEQUENCE:0
UID:788e2fb1531d6e621140a4be87518edbeventspronto.co.nz
DTSTAMP:20260420T141635Z
DESCRIPTION:Wellington’s Miles Calder announces a nationwide tour this coming\nApril and May in celebration of his debut solo album Autopilot Life,\nout today. The massive, ten-date tour will take Miles and his band\naround the country to perform their psychedelic-folk tunes to ten\nlucky towns from Dunedin to hometown venue Meow in Wellington. Backed\nby an electrifying new band, featuring long term collaborators Nick\nGeorge (drums) and Steve Moodie (bass), and Chris Armour (electric\nguitar) and Dayle Jellyman (synths, electric piano), these\npsych-tinged textures of cascading synths, atmospheric noise, and\nsearing guitar solos, amplify Miles songs and compelling vocals to new\nlevels of lush, hypnotic production.\n\nSinger/songwriter Miles Calder delivers cutting lyrics with an\nexpressive voice. His self reflective songs move from understated\nfolk-rock to swirling psychedelia, evoking early 70s Lennon as much as\ncontemporaries like Kevin Morby or Father John Misty.\n\n \n\n - info@theincubator.co.nz - https://www.eventspronto.co.nz/milescalder2021
SUMMARY:Miles Calder
END:VEVENT
END:VCALENDAR