BEGIN:VCALENDAR
VERSION:2.0
PRODID:-//rooster/egg//NONSGML v1.0//EN
BEGIN:VTIMEZONE
TZID:Pacific/Auckland
TZURL:http://tzurl.org/zoneinfo-outlook/Pacific/Auckland
X-LIC-LOCATION:Pacific/Auckland
BEGIN:DAYLIGHT
TZOFFSETFROM:+1200
TZOFFSETTO:+1300
TZNAME:NZDT
DTSTART:19700927T020000
RRULE:FREQ=YEARLY;BYMONTH=9;BYDAY=-1SU
END:DAYLIGHT
BEGIN:STANDARD
TZOFFSETFROM:+1300
TZOFFSETTO:+1200
TZNAME:NZST
DTSTART:19700405T030000
RRULE:FREQ=YEARLY;BYMONTH=4;BYDAY=1SU
END:STANDARD
END:VTIMEZONE
BEGIN:VEVENT
ORGANIZER:Alyssa Reed:mailto:alyssa@remakerspace.co.nz
DTSTART:20210520T173000
DTEND:20210520T193000
LOCATION:ReMaker Space, 91 Willow Street, Tauranga
SEQUENCE:0
UID:fcdf1eafa2aa09336579dba78bd6e9c2eventspronto.co.nz
DTSTAMP:20260420T080041Z
DESCRIPTION:This is an introductory session about setting up and living in small\nspaces. Structural design engineer and van enthusiast Eddie Chambers\nwill share ways of thinking through storage and design options and\nstrategies to incorporate into a van, tiny home or not-so-tiny home.\nCome along whether you have a van, tiny home or not! This is a great\nchance to see what’s possible, become inspired and further informed\non what you can do next in your own VanLife journey\n\n...or maybe you just think vans are cool and want to have a beer,\ndumplings and meet some interesting people. Whatever your motivation,\nsign up and let’s talk.\n\nIf you DO have a van already, bring it in to share what you've done or\nget a group brainstorm around where to begin. \n\n \n - alyssa@remakerspace.co.nz - https://www.eventspronto.co.nz/vanlife6
SUMMARY:VanLife 101
END:VEVENT
END:VCALENDAR