BEGIN:VCALENDAR
VERSION:2.0
PRODID:-//rooster/egg//NONSGML v1.0//EN
BEGIN:VTIMEZONE
TZID:Pacific/Auckland
TZURL:http://tzurl.org/zoneinfo-outlook/Pacific/Auckland
X-LIC-LOCATION:Pacific/Auckland
BEGIN:DAYLIGHT
TZOFFSETFROM:+1200
TZOFFSETTO:+1300
TZNAME:NZDT
DTSTART:19700927T020000
RRULE:FREQ=YEARLY;BYMONTH=9;BYDAY=-1SU
END:DAYLIGHT
BEGIN:STANDARD
TZOFFSETFROM:+1300
TZOFFSETTO:+1200
TZNAME:NZST
DTSTART:19700405T030000
RRULE:FREQ=YEARLY;BYMONTH=4;BYDAY=1SU
END:STANDARD
END:VTIMEZONE
BEGIN:VEVENT
ORGANIZER:Alyssa Reed:mailto:alyssa@remakerspace.co.nz
DTSTART:20210407T170000
DTEND:20210407T190000
LOCATION:ReMaker Space, 91 Willow Street, Tauranga
SEQUENCE:0
UID:6f5f63500c5e52335a7c542d5c38919ceventspronto.co.nz
DTSTAMP:20260422T030440Z
DESCRIPTION:Come along to make yourself a bread or cheese board from recycled and\nreclaimed timber.\n\nIn this 2 hour workshop you will learn basic wood preparation and\nintroductory power tool skills. Walk away with a beautiful timber\nboard for your home.\n - alyssa@remakerspace.co.nz - https://www.eventspronto.co.nz/breadboards4
SUMMARY:Make a Cheese Board
END:VEVENT
END:VCALENDAR