BEGIN:VCALENDAR
VERSION:2.0
PRODID:-//rooster/egg//NONSGML v1.0//EN
BEGIN:VTIMEZONE
TZID:Pacific/Auckland
TZURL:http://tzurl.org/zoneinfo-outlook/Pacific/Auckland
X-LIC-LOCATION:Pacific/Auckland
BEGIN:DAYLIGHT
TZOFFSETFROM:+1200
TZOFFSETTO:+1300
TZNAME:NZDT
DTSTART:19700927T020000
RRULE:FREQ=YEARLY;BYMONTH=9;BYDAY=-1SU
END:DAYLIGHT
BEGIN:STANDARD
TZOFFSETFROM:+1300
TZOFFSETTO:+1200
TZNAME:NZST
DTSTART:19700405T030000
RRULE:FREQ=YEARLY;BYMONTH=4;BYDAY=1SU
END:STANDARD
END:VTIMEZONE
BEGIN:VEVENT
ORGANIZER:Charlotte Van Doorn:mailto:charlotte@socialink.org.nz
DTSTART:20260317T080000
DTEND:20260317T093000
LOCATION:The Kollective, 145 Seventeenth Avenue, Tauranga
SEQUENCE:0
UID:cdf357f7ff89ed49a9fc4d4f419d12bdeventspronto.co.nz
DTSTAMP:20260420T082415Z
DESCRIPTION:MAKE YOUR POSTS STAND OUT!\nLearn how to craft content that grabs attention and reflects your\norganisation’s voice. We’ll cover writing essentials, visual\nbasics, platform-specific tips, and practical photo-taking techniques\nto keep your content professional and consistent.\n \n\nJoin SociaLink for a 5-part workshop series\n[https://www.eventspronto.co.nz/search/roadshow/314] designed to\nsupport community organisations to feel confident and capable on\nsocial media, no prior experience required! From choosing the right\nplatforms to creating engaging posts, short-form videos, and\neye-catching visuals, this series covers the essentials of building a\nstrong digital presence.\n\nLed by SociaLink's very own Katrina Redshaw, you’ll learn how to\nconnect with your audience in meaningful ways, save time using simple\ntools, and understand what’s working — all through an accessible,\nhands-on approach tailored for organisations doing important mahi in\ntheir communities.\n\n_*To make the most of our hands-on sessions, bring along a laptop and\nsmartphone - Let us know prior to the workshop if you need any\nassistance loading the apps so that we can provide the most support\nprior to the session._\n\n \n - charlotte@socialink.org.nz - https://www.eventspronto.co.nz/event6708
SUMMARY:Making a Social Media Post
END:VEVENT
END:VCALENDAR