BEGIN:VCALENDAR
VERSION:2.0
PRODID:-//rooster/egg//NONSGML v1.0//EN
BEGIN:VTIMEZONE
TZID:Pacific/Auckland
TZURL:http://tzurl.org/zoneinfo-outlook/Pacific/Auckland
X-LIC-LOCATION:Pacific/Auckland
BEGIN:DAYLIGHT
TZOFFSETFROM:+1200
TZOFFSETTO:+1300
TZNAME:NZDT
DTSTART:19700927T020000
RRULE:FREQ=YEARLY;BYMONTH=9;BYDAY=-1SU
END:DAYLIGHT
BEGIN:STANDARD
TZOFFSETFROM:+1300
TZOFFSETTO:+1200
TZNAME:NZST
DTSTART:19700405T030000
RRULE:FREQ=YEARLY;BYMONTH=4;BYDAY=1SU
END:STANDARD
END:VTIMEZONE
BEGIN:VEVENT
ORGANIZER:Joy Tengu:mailto:tewhareawhi@huntly.co.nz
DTSTART:20250909T103000
DTEND:20250909T120000
LOCATION:Te Whare Awhi, 14 Fraser Street, Huntly
SEQUENCE:0
UID:fa68d53036a088ba44f0f5abfb2ab780eventspronto.co.nz
DTSTAMP:20260424T120836Z
DESCRIPTION:Join us to make our own cleaning products - reducing waste packaging\nand unnecessary chemicals. With Waikato District Council\n\nPlease bring your own spray bottle.\n\nTuesday September 9th 10.30am\n\nKoha\n - tewhareawhi@huntly.co.nz - https://www.eventspronto.co.nz/event5966
SUMMARY:DIY Green Cleaning Products
END:VEVENT
END:VCALENDAR