BEGIN:VCALENDAR
VERSION:2.0
PRODID:-//rooster/egg//NONSGML v1.0//EN
BEGIN:VTIMEZONE
TZID:Pacific/Auckland
TZURL:http://tzurl.org/zoneinfo-outlook/Pacific/Auckland
X-LIC-LOCATION:Pacific/Auckland
BEGIN:DAYLIGHT
TZOFFSETFROM:+1200
TZOFFSETTO:+1300
TZNAME:NZDT
DTSTART:19700927T020000
RRULE:FREQ=YEARLY;BYMONTH=9;BYDAY=-1SU
END:DAYLIGHT
BEGIN:STANDARD
TZOFFSETFROM:+1300
TZOFFSETTO:+1200
TZNAME:NZST
DTSTART:19700405T030000
RRULE:FREQ=YEARLY;BYMONTH=4;BYDAY=1SU
END:STANDARD
END:VTIMEZONE
BEGIN:VEVENT
ORGANIZER:Ray:mailto:Rayoniandmark@xtra.co.nz
DTSTART:20250518T170000
DTEND:20250518T203000
LOCATION:Lighthouse Cinema - Cuba St., 29 Wigan Street, Te Aro, 6011, Wellington
SEQUENCE:0
UID:c18977560071558ec44f09ca58c527d4eventspronto.co.nz
DTSTAMP:20260423T082652Z
DESCRIPTION:Join the Zonta Club of Wellington for an absorbing, committed drama\nmovie.\n\nBased on the best-selling novel by Claire Keegan, small things like\nthese tells the story in 1985 of devoted father Bill Furlong who\ndiscovers disturbing secrets kept by the local convent and uncovers\nshocking truths of his own.\n\nCome along at 5.00pm to make your purchase of raffles, food and\nalcohol. \n\nMove starts at 5.45pm. \n\nWe are fundraising for local and international projects that make a\ndifference to the lives of women and girls.\n - Rayoniandmark@xtra.co.nz - https://www.eventspronto.co.nz/ZCWFilm27
SUMMARY:Film Fundraiser: Small things like these
END:VEVENT
END:VCALENDAR