BEGIN:VCALENDAR
VERSION:2.0
PRODID:-//rooster/egg//NONSGML v1.0//EN
BEGIN:VTIMEZONE
TZID:Pacific/Auckland
TZURL:http://tzurl.org/zoneinfo-outlook/Pacific/Auckland
X-LIC-LOCATION:Pacific/Auckland
BEGIN:DAYLIGHT
TZOFFSETFROM:+1200
TZOFFSETTO:+1300
TZNAME:NZDT
DTSTART:19700927T020000
RRULE:FREQ=YEARLY;BYMONTH=9;BYDAY=-1SU
END:DAYLIGHT
BEGIN:STANDARD
TZOFFSETFROM:+1300
TZOFFSETTO:+1200
TZNAME:NZST
DTSTART:19700405T030000
RRULE:FREQ=YEARLY;BYMONTH=4;BYDAY=1SU
END:STANDARD
END:VTIMEZONE
BEGIN:VEVENT
ORGANIZER:Emma:mailto:hello.rallydrivenz@gmail.com
DTSTART:20250118T100000
DTEND:20250216T140000
LOCATION:Rally Drive NZ, 887 Waerenga Road, Te Kauwhata
SEQUENCE:0
UID:145c7a09905d951b77c1d0a680ce1d0beventspronto.co.nz
DTSTAMP:20260423T092802Z
DESCRIPTION:_YOUTH DRIVING SKILLS _\n\nFun half-day courses to learn the basics of manual car driving and car\ncontrol in a safe low-speed environment ideal for teens and people\njust learning to drive\n\n 	* Holiday course\n 	* 3 weekend dates\n 	* small group 6-10 people\n 	* 10 am - 2 pm\n 	* $250pd / $700 for 3 days\n 	* learn to drive manual cars in a controlled space\n 	* Coned paddock car courses to learn manual driving and practice car\ncontrol basics \n 	* Taught in a safe low-risk environment - driving around cone\ncourses in an open paddock area\n 	* recommended age 15-21\n 	* Parent/s guardians need to sign indemnity/consent form\n 	* Based in Waerenga \n 	* drinks and snacks included\n\nPlease note this course does not include a road rules tutorial or\non-road driving experience \n\nThere is no upper age limit for this course. It will be great for\nanyone learning to drive and wanting to build their confidence \n\nWhat is taught?\n\n 	* Vision\n 	* Road reading\n 	* Road safety\n 	* Theory of driving\n 	* Seating portion\n 	* Hand position\n 	* Manual controls - clutch & gear changing\n 	* Basic car care - refilling fuel, checking oils, changing a tyre\n\nDriver training\n\n 	* Car control\n 	* Lines - slalom, cloverleaf\n 	* Throttle control\n 	* Braking & handbrake effect\n 	* Reversing\n 	* Hill Starts\n 	* Higher speed control - autocross\n 	* Loose surface (gravel) control\n\n_If you have questions or prefer to book by phone please email\nhello.rallydrivenz@gmail.com or call 021 116 8860._\n\n \n\n \n\n \n\n \n\n \n\n \n\n \n - hello.rallydrivenz@gmail.com - https://www.eventspronto.co.nz/youthseries25
SUMMARY:Youth Driving Skills
END:VEVENT
END:VCALENDAR