BEGIN:VCALENDAR
VERSION:2.0
PRODID:-//rooster/egg//NONSGML v1.0//EN
BEGIN:VTIMEZONE
TZID:Pacific/Auckland
TZURL:http://tzurl.org/zoneinfo-outlook/Pacific/Auckland
X-LIC-LOCATION:Pacific/Auckland
BEGIN:DAYLIGHT
TZOFFSETFROM:+1200
TZOFFSETTO:+1300
TZNAME:NZDT
DTSTART:19700927T020000
RRULE:FREQ=YEARLY;BYMONTH=9;BYDAY=-1SU
END:DAYLIGHT
BEGIN:STANDARD
TZOFFSETFROM:+1300
TZOFFSETTO:+1200
TZNAME:NZST
DTSTART:19700405T030000
RRULE:FREQ=YEARLY;BYMONTH=4;BYDAY=1SU
END:STANDARD
END:VTIMEZONE
BEGIN:VEVENT
ORGANIZER:Devon Harland:mailto:mailto@cctnz.org.nz
DTSTART:20241113T183000
DTEND:20241113T210000
LOCATION:The Atrium, Toi Ohomai Institute of Technology, Windermere Drive, Tauranga
SEQUENCE:0
UID:6d96988f60bf81297bba24cdde0b545deventspronto.co.nz
DTSTAMP:20260424T145056Z
DESCRIPTION:STREETFOOD SUPPER AND STORIES OF IMPACT, WEDNESDAY 13TH NOVEMBER 2024\n\n6.30 pm to 9.00 pm,\n\nVenue:  The Atrium, Toi Ohomai, Windermere Campus, Tauranga\n\nHosted at Toi Ohomai and featuring the culinary arts and tourism\nstudents as a part of their final assessments, this event is our\nopportunity to present a visual record of CCT's impact. Telling the\nstories of some of our sponsored students and the development of our\nCCT schools, the evening will feature photos taken over the years and\nmore recently photos taken by Linda Hart. \n\nYou will be greeted at the door with a glass of bubbles and enjoy\nmixing and mingling while being offered nibbles. Our guests will be\ninvited to view a short slide show which tells CCT's story.\nAfterwards, enjoy a fabulous series of street food stalls showcasing\nthe work of the Toi Ohomai students.\n\nBecause of the relationship we enjoy with Toi Ohomai, we are able to\noffer some tickets to CCT supporters as our way of saying thank you.\nPlease see the booking link for details, or contact us for tickets.\n\nRegister your Interest now.\n - mailto@cctnz.org.nz - https://www.eventspronto.co.nz/impact
SUMMARY:Streetfood Supper and Stories of Impact
END:VEVENT
END:VCALENDAR