BEGIN:VCALENDAR
VERSION:2.0
PRODID:-//rooster/egg//NONSGML v1.0//EN
BEGIN:VTIMEZONE
TZID:Pacific/Auckland
TZURL:http://tzurl.org/zoneinfo-outlook/Pacific/Auckland
X-LIC-LOCATION:Pacific/Auckland
BEGIN:DAYLIGHT
TZOFFSETFROM:+1200
TZOFFSETTO:+1300
TZNAME:NZDT
DTSTART:19700927T020000
RRULE:FREQ=YEARLY;BYMONTH=9;BYDAY=-1SU
END:DAYLIGHT
BEGIN:STANDARD
TZOFFSETFROM:+1300
TZOFFSETTO:+1200
TZNAME:NZST
DTSTART:19700405T030000
RRULE:FREQ=YEARLY;BYMONTH=4;BYDAY=1SU
END:STANDARD
END:VTIMEZONE
BEGIN:VEVENT
ORGANIZER:Josephine Hughes:mailto:manager@waikatopotters.co.nz
DTSTART:20240713T173000
DTEND:20240713T210000
LOCATION:The Woolshed Pottery, 37 Kairangi Road, Roto-o-rangi, Cambridge
SEQUENCE:0
UID:2e3c52efa77534b832def350c7fc01f2eventspronto.co.nz
DTSTAMP:20260424T080913Z
DESCRIPTION:Saturday 13th of July, 5.30pm - 9pm\n\nGreg Barron and Janet Smith warmly invite you to an evening with Greg\n- a potluck dinner at Janet's studio: The Woolshed Pottery. It has a\nkitchen, toilets, pizza oven etc so come along and enjoy a casual\nconversation with Greg Barron - one of New Zealand's Master Potters.\n\nPlease bring a dish to be shared and your own drink.\nWater and non-alcoholic drinks will be provided\n\nThere'll be a raffle too so bring along a few gold coins.\n - manager@waikatopotters.co.nz - https://www.eventspronto.co.nz/members_potluck_at_The_Woolshed_Pottery
SUMMARY:Members' Meet, Greet and Eat with Greg Barron
END:VEVENT
END:VCALENDAR