BEGIN:VCALENDAR
VERSION:2.0
PRODID:-//rooster/egg//NONSGML v1.0//EN
BEGIN:VTIMEZONE
TZID:Pacific/Auckland
TZURL:http://tzurl.org/zoneinfo-outlook/Pacific/Auckland
X-LIC-LOCATION:Pacific/Auckland
BEGIN:DAYLIGHT
TZOFFSETFROM:+1200
TZOFFSETTO:+1300
TZNAME:NZDT
DTSTART:19700927T020000
RRULE:FREQ=YEARLY;BYMONTH=9;BYDAY=-1SU
END:DAYLIGHT
BEGIN:STANDARD
TZOFFSETFROM:+1300
TZOFFSETTO:+1200
TZNAME:NZST
DTSTART:19700405T030000
RRULE:FREQ=YEARLY;BYMONTH=4;BYDAY=1SU
END:STANDARD
END:VTIMEZONE
BEGIN:VEVENT
ORGANIZER:Libby Cameron:mailto:info@waikatopotters.co.nz
DTSTART:20240715T090000
DTEND:20240715T150000
LOCATION:Waikato Society of Potters, Studio 1, Ward Park Arts Centre, 2 Seddon Rd, Hamilton
SEQUENCE:0
UID:8cf281dacd7041fbd8b4bb63000a57c7eventspronto.co.nz
DTSTAMP:20260424T075723Z
DESCRIPTION:In this kids day-programme, your child/ren will get to make their own\npottery pieces using a variety of techniques, including:\n\n 	* Create a Creature - using the pinch pot method and adding\nfeatures.\n 	* Wheel Adventures - have a fun, messy time spinning clay on the\npottery wheel.\n 	* Paint a Pot - choose a pre-made pot to paint with underglazes. \n 	* Freestyling - freedom to create whatever and however they like.\n\nWe will have four experienced potters facilitating the activities and\nguiding your child/ren through the creative process. The emphasis will\nbe on fun and creativity!\n\nINCLUDED COSTS:\nThe price includes the firing and glazing of one finished piece per\nchild, per activity, so 4 pieces in total. If they would like to keep\nmore than one piece per activity, additional creations can be paid for\nat $5 each at the end of the day.\n\nPLEASE BRING:\n_PLEASE PROVIDE MORNING AND AFTERNOON TEA, AND LUNCH FOR YOUR CHILD._\nWe will provide breaks between activities for your child to eat and\ndrink. Your child/ren may want to wear clothes they don't mind\ngetting dirty, as potting is a lot of fun and a little messy!\n\nDROP OFF AND PICK UP:\nYou can drop off your child/ren between 8.45 and 9am. Activities will\nstart at 9am sharp.\nYou can pick up your child from 3pm-3.15pm. Parents are welcome to\nstay with their child/ren for the day too.\n\nCOLLECTION OF FINISHED PIECES:\nIt will take 2 weeks for us to bisque fire the pieces, glaze them with\na durable shiny finish, and then high-fire them again to seal them.\nAll creations can be collected after 2 weeks time, within the hours of\n9.30am - 4pm Monday to Friday, and 10am - 1pm Saturdays.\n\n_TERMS AND CONDITIONS:\nThe Waikato Society of Potters (WSP) reserves the right to cancel a\nclass if it fails to achieve minimum enrolment numbers, for reasons\noutside of our control. A full refund will be given if the class is\ncancelled by the WSP less a 5% credit card fee. If a student cancels\ntheir enrolment within 72 hours of the first class starting, no refund\nwill be given. If a student cancels their booking less than 7 days\nprior to the event a 50% administration charge will be deducted from\nthe refund. Should a student cancel their enrolment any time prior to\nthe above a 20% administration fee will be deducted from the refund._\n\n_Please read the WSP code of conduct. Confirming your booking\nindicates that you have understood and agree to comply with them._\n\n \n\n \n\n \n\n - info@waikatopotters.co.nz - https://www.eventspronto.co.nz/schoolhol_15Jul24
SUMMARY:School Holiday Pottery Programme - 15th July
END:VEVENT
END:VCALENDAR