BEGIN:VCALENDAR
VERSION:2.0
PRODID:-//rooster/egg//NONSGML v1.0//EN
BEGIN:VTIMEZONE
TZID:Pacific/Auckland
TZURL:http://tzurl.org/zoneinfo-outlook/Pacific/Auckland
X-LIC-LOCATION:Pacific/Auckland
BEGIN:DAYLIGHT
TZOFFSETFROM:+1200
TZOFFSETTO:+1300
TZNAME:NZDT
DTSTART:19700927T020000
RRULE:FREQ=YEARLY;BYMONTH=9;BYDAY=-1SU
END:DAYLIGHT
BEGIN:STANDARD
TZOFFSETFROM:+1300
TZOFFSETTO:+1200
TZNAME:NZST
DTSTART:19700405T030000
RRULE:FREQ=YEARLY;BYMONTH=4;BYDAY=1SU
END:STANDARD
END:VTIMEZONE
BEGIN:VEVENT
ORGANIZER:Barr:mailto:gbc.wahine@gmail.com
DTSTART:20240505T083000
DTEND:20240505T110000
LOCATION:tbd, tbd, Gisborne
SEQUENCE:0
UID:b4e86ea51d25a4613aba8a8748a02b7eeventspronto.co.nz
DTSTAMP:20260423T173129Z
DESCRIPTION:Women and girls' expression session is back!\n\nFor all levels & all boards\nShare time in the water, have fun in a supportive social vibe!\n\nWe will have rashies for anyone who wishes to be on video for review\nand share forward.\nand some goodies to munch pre / post-surf.\n \n\n𖦹 SCHEDULE:\n\n8:30am - Pre-surf stretch & Movement warm up \n\n9:00 - Out with our surfer sisters and the waves\n\n𖦹 PRICE:\nFree for members, $10 for non-members\n\n༄ Location to be advised closer to the date\n༄ Re-group later in the day to watch the video - Time& hour will be\nannounced :)\n༄ This session will be videoed! Rashies will be provided for whoever\nwishes to be on camera.\n - gbc.wahine@gmail.com - https://www.eventspronto.co.nz/womenexpressionAPR24
SUMMARY:Women's Expression session
END:VEVENT
END:VCALENDAR