BEGIN:VCALENDAR
VERSION:2.0
PRODID:-//rooster/egg//NONSGML v1.0//EN
BEGIN:VTIMEZONE
TZID:Pacific/Auckland
TZURL:http://tzurl.org/zoneinfo-outlook/Pacific/Auckland
X-LIC-LOCATION:Pacific/Auckland
BEGIN:DAYLIGHT
TZOFFSETFROM:+1200
TZOFFSETTO:+1300
TZNAME:NZDT
DTSTART:19700927T020000
RRULE:FREQ=YEARLY;BYMONTH=9;BYDAY=-1SU
END:DAYLIGHT
BEGIN:STANDARD
TZOFFSETFROM:+1300
TZOFFSETTO:+1200
TZNAME:NZST
DTSTART:19700405T030000
RRULE:FREQ=YEARLY;BYMONTH=4;BYDAY=1SU
END:STANDARD
END:VTIMEZONE
BEGIN:VEVENT
ORGANIZER:Dannielle Teaupaku:mailto:talanoa@pacificgrowth.co.nz
DTSTART:20240326T093000
DTEND:20240326T143000
LOCATION:Mercury BayPark Stadium - The Stadium Lounge, 81 Truman Lane, Tauranga
SEQUENCE:0
UID:93c661767f44cc230f0688593f2a68f7eventspronto.co.nz
DTSTAMP:20260421T061414Z
DESCRIPTION:CALLING ALL PASIFIKA STUDENTS IN SCHOOLS, \n​TERTIARIES AND UNIVERSITY.\n\nCome along to gain insight into what it's like to work in different\nindustries/professions, vocations and entrepreneurship. Let this event\nhelp you decide your potential cerea pathway. \n\nWHAT TO EXPECT ON THE DAY\n\nSEMINARS\n\nGet to know our speakers, their stories, background, journey and how\nthey got to where they are. \n\nLUNCH\n\nLunch will be provided to all students on the day :)\n\nCAREER VILLAGES\n\n 	* health\n 	* education\n 	* engineers\n 	* horticulture  \n 	* entrepreneurship\n 	* local\n 	* council\n 	* law\n 	* banking and accounting\n 	* Aquaculture\n 	* architecture\n\n - talanoa@pacificgrowth.co.nz - https://www.eventspronto.co.nz/event5069
SUMMARY:Pasifika Navigators of Tomorrow
END:VEVENT
END:VCALENDAR